BEGIN:VCALENDAR
VERSION:2.0
PRODID:-//St Peter&#039;s, Everton - ECPv4.9.12//NONSGML v1.0//EN
CALSCALE:GREGORIAN
METHOD:PUBLISH
X-WR-CALNAME:St Peter&#039;s, Everton
X-ORIGINAL-URL:http://www.stpeterseverton.org
X-WR-CALDESC:Events for St Peter&#039;s, Everton
BEGIN:VTIMEZONE
TZID:UTC
BEGIN:STANDARD
TZOFFSETFROM:+0000
TZOFFSETTO:+0000
TZNAME:UTC
DTSTART:20170101T000000
END:STANDARD
END:VTIMEZONE
BEGIN:VEVENT
DTSTART;TZID=UTC:20170326T113000
DTEND;TZID=UTC:20170326T123000
DTSTAMP:20260421T093623
CREATED:20170221T164933Z
LAST-MODIFIED:20170221T165810Z
UID:3674-1490527800-1490531400@www.stpeterseverton.org
SUMMARY:Mothering Sunday Communion
DESCRIPTION:
URL:http://www.stpeterseverton.org/event/mothering-sunday-communion/
LOCATION:St Peter’s Church\, L5 3SE
ATTACH;FMTTYPE=image/png:http://www.stpeterseverton.org/wp-content/uploads/2014/08/church-marker.png
END:VEVENT
END:VCALENDAR